BEGIN:VCALENDAR
VERSION:2.0
PRODID:-//Melha Shriners - ECPv6.15.20//NONSGML v1.0//EN
CALSCALE:GREGORIAN
METHOD:PUBLISH
X-WR-CALNAME:Melha Shriners
X-ORIGINAL-URL:https://melhashriners.org
X-WR-CALDESC:Events for Melha Shriners
REFRESH-INTERVAL;VALUE=DURATION:PT1H
X-Robots-Tag:noindex
X-PUBLISHED-TTL:PT1H
BEGIN:VTIMEZONE
TZID:America/New_York
BEGIN:DAYLIGHT
TZOFFSETFROM:-0500
TZOFFSETTO:-0400
TZNAME:EDT
DTSTART:20240310T070000
END:DAYLIGHT
BEGIN:STANDARD
TZOFFSETFROM:-0400
TZOFFSETTO:-0500
TZNAME:EST
DTSTART:20241103T060000
END:STANDARD
BEGIN:DAYLIGHT
TZOFFSETFROM:-0500
TZOFFSETTO:-0400
TZNAME:EDT
DTSTART:20250309T070000
END:DAYLIGHT
BEGIN:STANDARD
TZOFFSETFROM:-0400
TZOFFSETTO:-0500
TZNAME:EST
DTSTART:20251102T060000
END:STANDARD
BEGIN:DAYLIGHT
TZOFFSETFROM:-0500
TZOFFSETTO:-0400
TZNAME:EDT
DTSTART:20260308T070000
END:DAYLIGHT
BEGIN:STANDARD
TZOFFSETFROM:-0400
TZOFFSETTO:-0500
TZNAME:EST
DTSTART:20261101T060000
END:STANDARD
END:VTIMEZONE
BEGIN:VEVENT
DTSTART;TZID=America/New_York:20251201T160000
DTEND;TZID=America/New_York:20251201T200000
DTSTAMP:20260423T173535
CREATED:20251026T205612Z
LAST-MODIFIED:20251026T205612Z
UID:13584-1764604800-1764619200@melhashriners.org
SUMMARY:2025 Feztival of Trees
DESCRIPTION:For full all dates/times and full details please visit our dedicated Feztival of Trees webpage by going to melhashriners.org/feztivaloftrees/
URL:https://melhashriners.org/events/2025-feztival-of-trees-4/
LOCATION:The Eastern States Exposition (The Big “E”)\, Stroh Building\, 1305 Memorial Avenue\, West Springfield\, MA\, 01089\, United States
ORGANIZER;CN="Melha Shriners":MAILTO:info@melhashriners.org
END:VEVENT
BEGIN:VEVENT
DTSTART;TZID=America/New_York:20251202T160000
DTEND;TZID=America/New_York:20251202T200000
DTSTAMP:20260423T173535
CREATED:20251026T205702Z
LAST-MODIFIED:20251026T205702Z
UID:13586-1764691200-1764705600@melhashriners.org
SUMMARY:2025 Feztival of Trees
DESCRIPTION:For full all dates/times and full details please visit our dedicated Feztival of Trees webpage by going to melhashriners.org/feztivaloftrees/
URL:https://melhashriners.org/events/2025-feztival-of-trees-5/
LOCATION:The Eastern States Exposition (The Big “E”)\, Stroh Building\, 1305 Memorial Avenue\, West Springfield\, MA\, 01089\, United States
ORGANIZER;CN="Melha Shriners":MAILTO:info@melhashriners.org
END:VEVENT
BEGIN:VEVENT
DTSTART;TZID=America/New_York:20251203T160000
DTEND;TZID=America/New_York:20251203T200000
DTSTAMP:20260423T173535
CREATED:20251026T205740Z
LAST-MODIFIED:20251026T205740Z
UID:13588-1764777600-1764792000@melhashriners.org
SUMMARY:2025 Feztival of Trees
DESCRIPTION:For full all dates/times and full details please visit our dedicated Feztival of Trees webpage by going to melhashriners.org/feztivaloftrees/
URL:https://melhashriners.org/events/2025-feztival-of-trees-6/
LOCATION:The Eastern States Exposition (The Big “E”)\, Stroh Building\, 1305 Memorial Avenue\, West Springfield\, MA\, 01089\, United States
ORGANIZER;CN="Melha Shriners":MAILTO:info@melhashriners.org
END:VEVENT
BEGIN:VEVENT
DTSTART;TZID=America/New_York:20251204T160000
DTEND;TZID=America/New_York:20251204T200000
DTSTAMP:20260423T173535
CREATED:20251026T205842Z
LAST-MODIFIED:20251026T205842Z
UID:13590-1764864000-1764878400@melhashriners.org
SUMMARY:2025 Feztival of Trees
DESCRIPTION:For full all dates/times and full details please visit our dedicated Feztival of Trees webpage by going to melhashriners.org/feztivaloftrees/
URL:https://melhashriners.org/events/2025-feztival-of-trees-7/
LOCATION:The Eastern States Exposition (The Big “E”)\, Stroh Building\, 1305 Memorial Avenue\, West Springfield\, MA\, 01089\, United States
ORGANIZER;CN="Melha Shriners":MAILTO:info@melhashriners.org
END:VEVENT
BEGIN:VEVENT
DTSTART;TZID=America/New_York:20251205T160000
DTEND;TZID=America/New_York:20251205T200000
DTSTAMP:20260423T173535
CREATED:20251026T205928Z
LAST-MODIFIED:20251026T205928Z
UID:13592-1764950400-1764964800@melhashriners.org
SUMMARY:2025 Feztival of Trees
DESCRIPTION:For full all dates/times and full details please visit our dedicated Feztival of Trees webpage by going to melhashriners.org/feztivaloftrees/
URL:https://melhashriners.org/events/2025-feztival-of-trees-8/
LOCATION:The Eastern States Exposition (The Big “E”)\, Stroh Building\, 1305 Memorial Avenue\, West Springfield\, MA\, 01089\, United States
ORGANIZER;CN="Melha Shriners":MAILTO:info@melhashriners.org
END:VEVENT
BEGIN:VEVENT
DTSTART;TZID=America/New_York:20251206T100000
DTEND;TZID=America/New_York:20251206T200000
DTSTAMP:20260423T173535
CREATED:20251026T210010Z
LAST-MODIFIED:20251026T210010Z
UID:13594-1765015200-1765051200@melhashriners.org
SUMMARY:2025 Feztival of Trees
DESCRIPTION:For full all dates/times and full details please visit our dedicated Feztival of Trees webpage by going to melhashriners.org/feztivaloftrees/
URL:https://melhashriners.org/events/2025-feztival-of-trees-9/
LOCATION:The Eastern States Exposition (The Big “E”)\, Stroh Building\, 1305 Memorial Avenue\, West Springfield\, MA\, 01089\, United States
ORGANIZER;CN="Melha Shriners":MAILTO:info@melhashriners.org
END:VEVENT
BEGIN:VEVENT
DTSTART;TZID=America/New_York:20251207T100000
DTEND;TZID=America/New_York:20251207T160000
DTSTAMP:20260423T173535
CREATED:20251026T210058Z
LAST-MODIFIED:20251026T210058Z
UID:13596-1765101600-1765123200@melhashriners.org
SUMMARY:2025 Feztival of Trees
DESCRIPTION:For full all dates/times and full details please visit our dedicated Feztival of Trees webpage by going to melhashriners.org/feztivaloftrees/
URL:https://melhashriners.org/events/2025-feztival-of-trees-10/
LOCATION:The Eastern States Exposition (The Big “E”)\, Stroh Building\, 1305 Memorial Avenue\, West Springfield\, MA\, 01089\, United States
ORGANIZER;CN="Melha Shriners":MAILTO:info@melhashriners.org
END:VEVENT
END:VCALENDAR