BEGIN:VCALENDAR
VERSION:2.0
PRODID:-//Melha Shriners - ECPv6.15.20//NONSGML v1.0//EN
CALSCALE:GREGORIAN
METHOD:PUBLISH
X-WR-CALNAME:Melha Shriners
X-ORIGINAL-URL:https://melhashriners.org
X-WR-CALDESC:Events for Melha Shriners
REFRESH-INTERVAL;VALUE=DURATION:PT1H
X-Robots-Tag:noindex
X-PUBLISHED-TTL:PT1H
BEGIN:VTIMEZONE
TZID:America/New_York
BEGIN:DAYLIGHT
TZOFFSETFROM:-0500
TZOFFSETTO:-0400
TZNAME:EDT
DTSTART:20240310T070000
END:DAYLIGHT
BEGIN:STANDARD
TZOFFSETFROM:-0400
TZOFFSETTO:-0500
TZNAME:EST
DTSTART:20241103T060000
END:STANDARD
BEGIN:DAYLIGHT
TZOFFSETFROM:-0500
TZOFFSETTO:-0400
TZNAME:EDT
DTSTART:20250309T070000
END:DAYLIGHT
BEGIN:STANDARD
TZOFFSETFROM:-0400
TZOFFSETTO:-0500
TZNAME:EST
DTSTART:20251102T060000
END:STANDARD
BEGIN:DAYLIGHT
TZOFFSETFROM:-0500
TZOFFSETTO:-0400
TZNAME:EDT
DTSTART:20260308T070000
END:DAYLIGHT
BEGIN:STANDARD
TZOFFSETFROM:-0400
TZOFFSETTO:-0500
TZNAME:EST
DTSTART:20261101T060000
END:STANDARD
END:VTIMEZONE
BEGIN:VEVENT
DTSTART;TZID=America/New_York:20250104T150000
DTEND;TZID=America/New_York:20250104T210000
DTSTAMP:20260424T091944
CREATED:20241207T222133Z
LAST-MODIFIED:20241207T223303Z
UID:9748-1736002800-1736024400@melhashriners.org
SUMMARY:Installation of Officers - 2025
DESCRIPTION:Plans for the evening are as follows: Starting at 5pm will be pictures\, 6pm social hour\,and 7pm dinner and comedy show\, and installation to end the evening. I want to bring back some of the fun we used to have so why not start the year out with some fun and fellowship. The Divan installation will be just before starting at 3 pm. Open to the public\, All will take place at The 1080 on Saturday January 4th\, 2025. Unit dress is requested. Top four officers and their ladies are invited at no cost to them. If anyone else would like to join in on the evening it’s $35 per person. Reservations are a must so please RSVP no later than 12/20/2025. Keep in mind installation is a must for you to do the work your fellow Nobles elected you to do. Thanks for being a part of leadership in Melha\, let’s have a great 2025. \nSelect the correct ticket below and then proceed through the checkout. There are “FREE” tickets for zero cost for the top 4 officers of each unit or club and a single guest for them. For all others the ticket to select is the the “PAID” ticket and the cost is $35 and you should select that option\, go through checkout to pay. \nAll proceeds are for the benefit of Melha Shriners activities\, and payments are not deductible as charitable contributions.
URL:https://melhashriners.org/events/installation-of-officers-2025/
LOCATION:The 1080 (Former Clarion Hotel)\, 1080 Riverdale Street\, West Springfield\, MA\, 01089\, United States
ORGANIZER;CN="Melha Shriners":MAILTO:info@melhashriners.org
END:VEVENT
BEGIN:VEVENT
DTSTART;TZID=America/New_York:20250115T183000
DTEND;TZID=America/New_York:20250115T203000
DTSTAMP:20260424T091944
CREATED:20241207T220458Z
LAST-MODIFIED:20241207T221316Z
UID:9738-1736965800-1736973000@melhashriners.org
SUMMARY:Unit/Club Officer Training - 1/15/25
DESCRIPTION:Annual unit and club officer training will be Wednesday the 15th and Thursday the 16th of January. All unit and club officers are required to come out to one or the other. Please RSVP no later than January 10th\, for one of the two dates.
URL:https://melhashriners.org/events/unit-club-officer-training-1-15-25/
LOCATION:Melha Shrine Center\, 89 Park Street\, Chicopee\, MA\, 01013\, United States
ORGANIZER;CN="Melha Shriners":MAILTO:info@melhashriners.org
END:VEVENT
BEGIN:VEVENT
DTSTART;TZID=America/New_York:20250116T183000
DTEND;TZID=America/New_York:20250116T203000
DTSTAMP:20260424T091944
CREATED:20241207T220814Z
LAST-MODIFIED:20241207T220839Z
UID:9744-1737052200-1737059400@melhashriners.org
SUMMARY:Unit/Club Officer Training - 1/16/25
DESCRIPTION:Annual unit and club officer training will be Wednesday the 15th and Thursday the 16th of January. All unit and club officers are required to come out to one or the other. Please RSVP no later than January 10th\, for one of the two dates.
URL:https://melhashriners.org/events/unit-club-officer-training-1-16-25/
LOCATION:Melha Shrine Center\, 89 Park Street\, Chicopee\, MA\, 01013\, United States
ORGANIZER;CN="Melha Shriners":MAILTO:info@melhashriners.org
END:VEVENT
END:VCALENDAR