BEGIN:VCALENDAR
VERSION:2.0
PRODID:-//Melha Shriners - ECPv6.15.20//NONSGML v1.0//EN
CALSCALE:GREGORIAN
METHOD:PUBLISH
X-ORIGINAL-URL:https://melhashriners.org
X-WR-CALDESC:Events for Melha Shriners
REFRESH-INTERVAL;VALUE=DURATION:PT1H
X-Robots-Tag:noindex
X-PUBLISHED-TTL:PT1H
BEGIN:VTIMEZONE
TZID:America/New_York
BEGIN:DAYLIGHT
TZOFFSETFROM:-0500
TZOFFSETTO:-0400
TZNAME:EDT
DTSTART:20230312T070000
END:DAYLIGHT
BEGIN:STANDARD
TZOFFSETFROM:-0400
TZOFFSETTO:-0500
TZNAME:EST
DTSTART:20231105T060000
END:STANDARD
BEGIN:DAYLIGHT
TZOFFSETFROM:-0500
TZOFFSETTO:-0400
TZNAME:EDT
DTSTART:20240310T070000
END:DAYLIGHT
BEGIN:STANDARD
TZOFFSETFROM:-0400
TZOFFSETTO:-0500
TZNAME:EST
DTSTART:20241103T060000
END:STANDARD
BEGIN:DAYLIGHT
TZOFFSETFROM:-0500
TZOFFSETTO:-0400
TZNAME:EDT
DTSTART:20250309T070000
END:DAYLIGHT
BEGIN:STANDARD
TZOFFSETFROM:-0400
TZOFFSETTO:-0500
TZNAME:EST
DTSTART:20251102T060000
END:STANDARD
END:VTIMEZONE
BEGIN:VEVENT
DTSTART;TZID=America/New_York:20241201T080000
DTEND;TZID=America/New_York:20241201T093000
DTSTAMP:20260424T110614
CREATED:20241020T143126Z
LAST-MODIFIED:20241020T143618Z
UID:9147-1733040000-1733045400@melhashriners.org
SUMMARY:Breakfast With Santa - 12/1/24 - 8:00AM
DESCRIPTION:December 1st\, 8:00 am to 9:30 am seating for the Melha Shriners Festival of Trees Annual Breakfast With Santa. \nCome join Santa and Mrs. Claus\, our special guests from the North Pole\, for this once-a-year\, family-orientated breakfast.  Photo opportunity with Santa and Mrs. Claus\, don’t forget your camera!. Breakfast will be $10 for ages 13 and older\, $5 for ages 4 through 12\, and children 3 and under are free. \nSpace is limited – Reservations required in advance and are only available online. \nTo see the list of all dates/times for our Breakfast With Santa click here. \nAll proceeds are for the benefit of Melha Shriners activities\, and payments are not deductible as charitable contributions.
URL:https://melhashriners.org/events/breakfast-with-santa-12-1-24-800am/
LOCATION:The 1080 (Former Clarion Hotel)\, 1080 Riverdale Street\, West Springfield\, MA\, 01089\, United States
ORGANIZER;CN="Melha Shriners":MAILTO:info@melhashriners.org
END:VEVENT
BEGIN:VEVENT
DTSTART;TZID=America/New_York:20241201T090000
DTEND;TZID=America/New_York:20241201T170000
DTSTAMP:20260424T110614
CREATED:20240920T192349Z
LAST-MODIFIED:20240920T192349Z
UID:9085-1733043600-1733072400@melhashriners.org
SUMMARY:2024 Feztival of Trees
DESCRIPTION:For full all dates/times and full details please visit our dedicated Feztival of Trees webpage by going to melhashriners.org/feztivaloftrees/
URL:https://melhashriners.org/events/2024-feztival-of-trees-3/
LOCATION:The 1080 (Former Clarion Hotel)\, 1080 Riverdale Street\, West Springfield\, MA\, 01089\, United States
ORGANIZER;CN="Melha Shriners":MAILTO:info@melhashriners.org
END:VEVENT
BEGIN:VEVENT
DTSTART;TZID=America/New_York:20241201T093000
DTEND;TZID=America/New_York:20241201T110000
DTSTAMP:20260424T110614
CREATED:20241020T143901Z
LAST-MODIFIED:20241020T143901Z
UID:9153-1733045400-1733050800@melhashriners.org
SUMMARY:Breakfast With Santa - 12/1/24 - 9:30AM
DESCRIPTION:December 1st\, 9:30 am to 11:00 am seating for the Melha Shriners Festival of Trees Annual Breakfast With Santa. \nCome join Santa and Mrs. Claus\, our special guests from the North Pole\, for this once-a-year\, family-orientated breakfast.  Photo opportunity with Santa and Mrs. Claus\, don’t forget your camera!. Breakfast will be $10 for ages 13 and older\, $5 for ages 4 through 12\, and children 3 and under are free. \nSpace is limited – Reservations required in advance and are only available online. \nTo see the list of all dates/times for our Breakfast With Santa click here. \nAll proceeds are for the benefit of Melha Shriners activities\, and payments are not deductible as charitable contributions.
URL:https://melhashriners.org/events/breakfast-with-santa-12-1-24-930am/
LOCATION:The 1080 (Former Clarion Hotel)\, 1080 Riverdale Street\, West Springfield\, MA\, 01089\, United States
ORGANIZER;CN="Melha Shriners":MAILTO:info@melhashriners.org
END:VEVENT
BEGIN:VEVENT
DTSTART;TZID=America/New_York:20241202T160000
DTEND;TZID=America/New_York:20241202T190000
DTSTAMP:20260424T110614
CREATED:20240920T192401Z
LAST-MODIFIED:20240920T192401Z
UID:9086-1733155200-1733166000@melhashriners.org
SUMMARY:2024 Feztival of Trees
DESCRIPTION:For full all dates/times and full details please visit our dedicated Feztival of Trees webpage by going to melhashriners.org/feztivaloftrees/
URL:https://melhashriners.org/events/2024-feztival-of-trees-4/
LOCATION:The 1080 (Former Clarion Hotel)\, 1080 Riverdale Street\, West Springfield\, MA\, 01089\, United States
ORGANIZER;CN="Melha Shriners":MAILTO:info@melhashriners.org
END:VEVENT
BEGIN:VEVENT
DTSTART;TZID=America/New_York:20241203T160000
DTEND;TZID=America/New_York:20241203T190000
DTSTAMP:20260424T110614
CREATED:20240920T192412Z
LAST-MODIFIED:20240920T192412Z
UID:9087-1733241600-1733252400@melhashriners.org
SUMMARY:2024 Feztival of Trees
DESCRIPTION:For full all dates/times and full details please visit our dedicated Feztival of Trees webpage by going to melhashriners.org/feztivaloftrees/
URL:https://melhashriners.org/events/2024-feztival-of-trees-5/
LOCATION:The 1080 (Former Clarion Hotel)\, 1080 Riverdale Street\, West Springfield\, MA\, 01089\, United States
ORGANIZER;CN="Melha Shriners":MAILTO:info@melhashriners.org
END:VEVENT
BEGIN:VEVENT
DTSTART;TZID=America/New_York:20241204T160000
DTEND;TZID=America/New_York:20241204T190000
DTSTAMP:20260424T110614
CREATED:20240920T192430Z
LAST-MODIFIED:20240920T192430Z
UID:9088-1733328000-1733338800@melhashriners.org
SUMMARY:2024 Feztival of Trees
DESCRIPTION:For full all dates/times and full details please visit our dedicated Feztival of Trees webpage by going to melhashriners.org/feztivaloftrees/
URL:https://melhashriners.org/events/2024-feztival-of-trees-6/
LOCATION:The 1080 (Former Clarion Hotel)\, 1080 Riverdale Street\, West Springfield\, MA\, 01089\, United States
ORGANIZER;CN="Melha Shriners":MAILTO:info@melhashriners.org
END:VEVENT
BEGIN:VEVENT
DTSTART;TZID=America/New_York:20241205T160000
DTEND;TZID=America/New_York:20241205T190000
DTSTAMP:20260424T110614
CREATED:20240920T192442Z
LAST-MODIFIED:20240920T192442Z
UID:9089-1733414400-1733425200@melhashriners.org
SUMMARY:2024 Feztival of Trees
DESCRIPTION:For full all dates/times and full details please visit our dedicated Feztival of Trees webpage by going to melhashriners.org/feztivaloftrees/
URL:https://melhashriners.org/events/2024-feztival-of-trees-7/
LOCATION:The 1080 (Former Clarion Hotel)\, 1080 Riverdale Street\, West Springfield\, MA\, 01089\, United States
ORGANIZER;CN="Melha Shriners":MAILTO:info@melhashriners.org
END:VEVENT
BEGIN:VEVENT
DTSTART;TZID=America/New_York:20241206T160000
DTEND;TZID=America/New_York:20241206T190000
DTSTAMP:20260424T110614
CREATED:20240920T192459Z
LAST-MODIFIED:20240920T192459Z
UID:9090-1733500800-1733511600@melhashriners.org
SUMMARY:2024 Feztival of Trees
DESCRIPTION:For full all dates/times and full details please visit our dedicated Feztival of Trees webpage by going to melhashriners.org/feztivaloftrees/
URL:https://melhashriners.org/events/2024-feztival-of-trees-8/
LOCATION:The 1080 (Former Clarion Hotel)\, 1080 Riverdale Street\, West Springfield\, MA\, 01089\, United States
ORGANIZER;CN="Melha Shriners":MAILTO:info@melhashriners.org
END:VEVENT
BEGIN:VEVENT
DTSTART;TZID=America/New_York:20241207T080000
DTEND;TZID=America/New_York:20241207T093000
DTSTAMP:20260424T110614
CREATED:20241020T144353Z
LAST-MODIFIED:20241020T144353Z
UID:9159-1733558400-1733563800@melhashriners.org
SUMMARY:Breakfast With Santa - 12/7/24 - 8:00AM
DESCRIPTION:December 7th\, 8:00 am to 9:30 am seating for the Melha Shriners Festival of Trees Annual Breakfast With Santa. \nCome join Santa and Mrs. Claus\, our special guests from the North Pole\, for this once-a-year\, family-orientated breakfast.  Photo opportunity with Santa and Mrs. Claus\, don’t forget your camera!. Breakfast will be $10 for ages 13 and older\, $5 for ages 4 through 12\, and children 3 and under are free. \nSpace is limited – Reservations required in advance and are only available online. \nTo see the list of all dates/times for our Breakfast With Santa click here. \nAll proceeds are for the benefit of Melha Shriners activities\, and payments are not deductible as charitable contributions.
URL:https://melhashriners.org/events/breakfast-with-santa-12-7-24-800am/
LOCATION:The 1080 (Former Clarion Hotel)\, 1080 Riverdale Street\, West Springfield\, MA\, 01089\, United States
ORGANIZER;CN="Melha Shriners":MAILTO:info@melhashriners.org
END:VEVENT
BEGIN:VEVENT
DTSTART;TZID=America/New_York:20241207T093000
DTEND;TZID=America/New_York:20241207T110000
DTSTAMP:20260424T110614
CREATED:20241020T144831Z
LAST-MODIFIED:20241020T144831Z
UID:9165-1733563800-1733569200@melhashriners.org
SUMMARY:Breakfast With Santa - 12/7/24 - 9:30AM
DESCRIPTION:December 7th\, 9:30 am to 11:00 am seating for the Melha Shriners Festival of Trees Annual Breakfast With Santa. \nCome join Santa and Mrs. Claus\, our special guests from the North Pole\, for this once-a-year\, family-orientated breakfast.  Photo opportunity with Santa and Mrs. Claus\, don’t forget your camera!. Breakfast will be $10 for ages 13 and older\, $5 for ages 4 through 12\, and children 3 and under are free. \nSpace is limited – Reservations required in advance and are only available online. \nTo see the list of all dates/times for our Breakfast With Santa click here. \nAll proceeds are for the benefit of Melha Shriners activities\, and payments are not deductible as charitable contributions.
URL:https://melhashriners.org/events/breakfast-with-santa-12-7-24-930am/
LOCATION:The 1080 (Former Clarion Hotel)\, 1080 Riverdale Street\, West Springfield\, MA\, 01089\, United States
ORGANIZER;CN="Melha Shriners":MAILTO:info@melhashriners.org
END:VEVENT
BEGIN:VEVENT
DTSTART;TZID=America/New_York:20241207T100000
DTEND;TZID=America/New_York:20241207T190000
DTSTAMP:20260424T110614
CREATED:20240920T192511Z
LAST-MODIFIED:20240920T192511Z
UID:9091-1733565600-1733598000@melhashriners.org
SUMMARY:2024 Feztival of Trees
DESCRIPTION:For full all dates/times and full details please visit our dedicated Feztival of Trees webpage by going to melhashriners.org/feztivaloftrees/
URL:https://melhashriners.org/events/2024-feztival-of-trees-9/
LOCATION:The 1080 (Former Clarion Hotel)\, 1080 Riverdale Street\, West Springfield\, MA\, 01089\, United States
ORGANIZER;CN="Melha Shriners":MAILTO:info@melhashriners.org
END:VEVENT
BEGIN:VEVENT
DTSTART;TZID=America/New_York:20241208T080000
DTEND;TZID=America/New_York:20241208T100000
DTSTAMP:20260424T110614
CREATED:20241020T145256Z
LAST-MODIFIED:20241020T145256Z
UID:9171-1733644800-1733652000@melhashriners.org
SUMMARY:Breakfast With Santa - 12/8/24 - 8:00AM
DESCRIPTION:December 8th\, 8:00 am to 10:00 am seating for the Melha Shriners Festival of Trees Annual Breakfast With Santa. \nCome join Santa and Mrs. Claus\, our special guests from the North Pole\, for this once-a-year\, family-orientated breakfast.  Photo opportunity with Santa and Mrs. Claus\, don’t forget your camera!. Breakfast will be $10 for ages 13 and older\, $5 for ages 4 through 12\, and children 3 and under are free. \nSpace is limited – Reservations required in advance and are only available online. \nTo see the list of all dates/times for our Breakfast With Santa click here. \nAll proceeds are for the benefit of Melha Shriners activities\, and payments are not deductible as charitable contributions.
URL:https://melhashriners.org/events/breakfast-with-santa-12-8-24-800am/
LOCATION:The 1080 (Former Clarion Hotel)\, 1080 Riverdale Street\, West Springfield\, MA\, 01089\, United States
ORGANIZER;CN="Melha Shriners":MAILTO:info@melhashriners.org
END:VEVENT
BEGIN:VEVENT
DTSTART;TZID=America/New_York:20241208T090000
DTEND;TZID=America/New_York:20241208T140000
DTSTAMP:20260424T110614
CREATED:20240920T192523Z
LAST-MODIFIED:20240920T192523Z
UID:9092-1733648400-1733666400@melhashriners.org
SUMMARY:2024 Feztival of Trees
DESCRIPTION:For full all dates/times and full details please visit our dedicated Feztival of Trees webpage by going to melhashriners.org/feztivaloftrees/
URL:https://melhashriners.org/events/2024-feztival-of-trees-10/
LOCATION:The 1080 (Former Clarion Hotel)\, 1080 Riverdale Street\, West Springfield\, MA\, 01089\, United States
ORGANIZER;CN="Melha Shriners":MAILTO:info@melhashriners.org
END:VEVENT
END:VCALENDAR