BEGIN:VCALENDAR
VERSION:2.0
PRODID:-//Melha Shriners - ECPv6.15.20//NONSGML v1.0//EN
CALSCALE:GREGORIAN
METHOD:PUBLISH
X-WR-CALNAME:Melha Shriners
X-ORIGINAL-URL:https://melhashriners.org
X-WR-CALDESC:Events for Melha Shriners
REFRESH-INTERVAL;VALUE=DURATION:PT1H
X-Robots-Tag:noindex
X-PUBLISHED-TTL:PT1H
BEGIN:VTIMEZONE
TZID:America/New_York
BEGIN:DAYLIGHT
TZOFFSETFROM:-0500
TZOFFSETTO:-0400
TZNAME:EDT
DTSTART:20230312T070000
END:DAYLIGHT
BEGIN:STANDARD
TZOFFSETFROM:-0400
TZOFFSETTO:-0500
TZNAME:EST
DTSTART:20231105T060000
END:STANDARD
BEGIN:DAYLIGHT
TZOFFSETFROM:-0500
TZOFFSETTO:-0400
TZNAME:EDT
DTSTART:20240310T070000
END:DAYLIGHT
BEGIN:STANDARD
TZOFFSETFROM:-0400
TZOFFSETTO:-0500
TZNAME:EST
DTSTART:20241103T060000
END:STANDARD
BEGIN:DAYLIGHT
TZOFFSETFROM:-0500
TZOFFSETTO:-0400
TZNAME:EDT
DTSTART:20250309T070000
END:DAYLIGHT
BEGIN:STANDARD
TZOFFSETFROM:-0400
TZOFFSETTO:-0500
TZNAME:EST
DTSTART:20251102T060000
END:STANDARD
END:VTIMEZONE
BEGIN:VEVENT
DTSTART;VALUE=DATE:20240426
DTEND;VALUE=DATE:20240428
DTSTAMP:20260424T231015
CREATED:20240203T220549Z
LAST-MODIFIED:20240405T145901Z
UID:8478-1714089600-1714262399@melhashriners.org
SUMMARY:2024 Potentate's Weekend
DESCRIPTION:Join us for the 2024 Melha Shriners Potentate’s Weekend\, Friday\, April 26th and Saturday\, April 27th. All options will be available for purchase here on our website in the very near future\, including the hotel accommodations. \nHotel accommodations are going to be available for purchase for Friday and Saturday or just Saturday night. Anyone that purchases the hotel accommodations will also receive admission to the Melha Hospitality room. Hotel accommodations will be at the Homewood Suites\, 375 Whitney Ave.\, Holyoke\, MA. The hotel also includes a free hot breakfast\, free parking\, free WiFi\, an indoor pool and a fitness center. Hotel accommodations are $175 per night\, per room at double occupancy. Hotel accommodations must be purchased no later than 8:00pm on April 5th. \nJoin us on Friday\, April 26th from 7:00pm to 9:00pm\, to be entertained by Sarah the Fiddler at the Castle of the Knights at 1599 Memorial Dr\, Chicopee\, MA 01020. The doors will open at 6:30pm. Tickets are $25 per person and must be purchased no later than 8:00pm on April 25th. Dress is Casual/Shrine Casual. \n \nOn Saturday\, April 27th starting at Noon\, come join us for a BBQ Lunch at Homewood Suites\, 375 Whitney Ave.\, Holyoke\, MA. Tickets are $25 per person\, it is Free for visiting Potentates and their companions (Please select the Potentate/Companion Free Ticket option below). Tickets must be purchased by 8:00pm on April 15th\, 2024. Dress is Shrine Casual. \nOn Saturday\, April 27th starting at 5:00pm\, come join us for the formal Potentate’s reception. Social will begin at 5:00pm with dinner being served at 6:00pm. This will be at the Castle of the Knights at 1599 Memorial Dr\, Chicopee\, MA 01020. Tickets are $75 per person and the must be purchased by 8:00pm on April 15th\, 2024. Meal choices are Herb Roasted Sirloin of Beef\, Baked Stuffed Chicken\, or Roasted Salmon. If someone in your party has a food allergy then please add that information to the notes field during the checkout process. Also please let us know in the notes field during the checkout process your favorite song(s) to dance to. Dress is Suite with Fez with black tie as optional. \nAll proceeds are for the benefit of Melha Shriners activities\, and donations are not deductible as charitable contributions. A convenience fee of 3.5% is applied to all online and credit card transactions.
URL:https://melhashriners.org/events/2024-potentates-weekend/
LOCATION:MA
ORGANIZER;CN="Melha Shriners":MAILTO:info@melhashriners.org
END:VEVENT
BEGIN:VEVENT
DTSTART;TZID=America/New_York:20240426T190000
DTEND;TZID=America/New_York:20240426T210000
DTSTAMP:20260424T231015
CREATED:20240211T141045Z
LAST-MODIFIED:20240213T172144Z
UID:8508-1714158000-1714165200@melhashriners.org
SUMMARY:Sarah The Fiddler
DESCRIPTION:Note: These tickets are for the general public; if you are a shriner\, affiliated with the shriners or masonic organizations then please use the 2024 Potentate’s Weekend link to purchase tickets. \nJoin us on Friday\, April 26th from 7:00pm to 9:00pm\, to be entertained by Sarah the Fiddler at the Castle of the Knights at 1599 Memorial Dr\, Chicopee\, MA 01020. The doors will open at 6:30pm. Tickets are $25 per person and must be purchased no later than 8:00pm on April 25th. \n \nAll proceeds are for the benefit of Melha Shriners activities\, and donations are not deductible as charitable contributions. A convenience fee of 3.5% is applied to all online and credit card transactions.
URL:https://melhashriners.org/events/sarah-the-fiddler/
LOCATION:Castle of the Knights\, 1599 Memorial Drive\, Chicopee\, MA\, 01020\, United States
ORGANIZER;CN="Melha Shriners":MAILTO:info@melhashriners.org
END:VEVENT
END:VCALENDAR