BEGIN:VCALENDAR
VERSION:2.0
PRODID:-//Melha Shriners - ECPv6.15.20//NONSGML v1.0//EN
CALSCALE:GREGORIAN
METHOD:PUBLISH
X-ORIGINAL-URL:https://melhashriners.org
X-WR-CALDESC:Events for Melha Shriners
REFRESH-INTERVAL;VALUE=DURATION:PT1H
X-Robots-Tag:noindex
X-PUBLISHED-TTL:PT1H
BEGIN:VTIMEZONE
TZID:America/New_York
BEGIN:DAYLIGHT
TZOFFSETFROM:-0500
TZOFFSETTO:-0400
TZNAME:EDT
DTSTART:20220313T070000
END:DAYLIGHT
BEGIN:STANDARD
TZOFFSETFROM:-0400
TZOFFSETTO:-0500
TZNAME:EST
DTSTART:20221106T060000
END:STANDARD
BEGIN:DAYLIGHT
TZOFFSETFROM:-0500
TZOFFSETTO:-0400
TZNAME:EDT
DTSTART:20230312T070000
END:DAYLIGHT
BEGIN:STANDARD
TZOFFSETFROM:-0400
TZOFFSETTO:-0500
TZNAME:EST
DTSTART:20231105T060000
END:STANDARD
BEGIN:DAYLIGHT
TZOFFSETFROM:-0500
TZOFFSETTO:-0400
TZNAME:EDT
DTSTART:20240310T070000
END:DAYLIGHT
BEGIN:STANDARD
TZOFFSETFROM:-0400
TZOFFSETTO:-0500
TZNAME:EST
DTSTART:20241103T060000
END:STANDARD
END:VTIMEZONE
BEGIN:VEVENT
DTSTART;VALUE=DATE:20230701
DTEND;VALUE=DATE:20230707
DTSTAMP:20260425T112134
CREATED:20230225T153119Z
LAST-MODIFIED:20230225T153557Z
UID:6925-1688169600-1688687999@melhashriners.org
SUMMARY:2023 Imperial Session
DESCRIPTION:Join us at the Hilton Garden Inn\,  508 E M.L.K. Jr Blvd\, Charlotte\, NC 28202 for the 2023 Imperial Session: \n2023 Package is $1780 per couple: \n\n6 day stay from July 1st-July 6th\nAll taxes included\nHospitality room\nDinner at Mac’s Speed Shop (Food only)\n\nDoes not include: \n\nLadies Luncheon\nTransportation\n\nHotel is located across the street from the NASCAR Hall of Fame and the Convention Center \nThere are two options to pay: \n\nPay in full\, $1780 per couple\, by March 20\, 2023 by selecting the Imperial 2023 – Pay In Full Due By 3/20/23 item below.\nPay a deposit of $500 per couple by March 20\, 2023 by selecting the Imperial 2023 – First Payment Due By 3/20/23 item below. Then returning to this website and pay second payment of $500 per couple by May 1\, 2023 by selecting the Imperial 2023 – Second Payment Due By 5/1/23 item below. Then returning to this website and pay third and final payment of $780 per couple by June 1\, 2023 by selecting the Imperial 2023 – Balance Due By 6/1/23 item below.\n\nAll proceeds are for the benefit of Melha Shriners activities\, and donations are not deductible as charitable contributions. A transaction fee of 3.5% is applied to all online and credit card transactions.
URL:https://melhashriners.org/events/2023-imperial-session/
LOCATION:Hilton Garden Inn  – Charlotte\, NC\, 508 E M.L.K. Jr Blvd\, Charlotte\, NC\, 28202\, United States
ORGANIZER;CN="Melha Shriners":MAILTO:info@melhashriners.org
END:VEVENT
END:VCALENDAR