BEGIN:VCALENDAR
VERSION:2.0
PRODID:-//Melha Shriners - ECPv6.15.20//NONSGML v1.0//EN
CALSCALE:GREGORIAN
METHOD:PUBLISH
X-WR-CALNAME:Melha Shriners
X-ORIGINAL-URL:https://melhashriners.org
X-WR-CALDESC:Events for Melha Shriners
REFRESH-INTERVAL;VALUE=DURATION:PT1H
X-Robots-Tag:noindex
X-PUBLISHED-TTL:PT1H
BEGIN:VTIMEZONE
TZID:America/New_York
BEGIN:DAYLIGHT
TZOFFSETFROM:-0500
TZOFFSETTO:-0400
TZNAME:EDT
DTSTART:20180311T070000
END:DAYLIGHT
BEGIN:STANDARD
TZOFFSETFROM:-0400
TZOFFSETTO:-0500
TZNAME:EST
DTSTART:20181104T060000
END:STANDARD
BEGIN:DAYLIGHT
TZOFFSETFROM:-0500
TZOFFSETTO:-0400
TZNAME:EDT
DTSTART:20190310T070000
END:DAYLIGHT
BEGIN:STANDARD
TZOFFSETFROM:-0400
TZOFFSETTO:-0500
TZNAME:EST
DTSTART:20191103T060000
END:STANDARD
BEGIN:DAYLIGHT
TZOFFSETFROM:-0500
TZOFFSETTO:-0400
TZNAME:EDT
DTSTART:20200308T070000
END:DAYLIGHT
BEGIN:STANDARD
TZOFFSETFROM:-0400
TZOFFSETTO:-0500
TZNAME:EST
DTSTART:20201101T060000
END:STANDARD
END:VTIMEZONE
BEGIN:VEVENT
DTSTART;TZID=America/New_York:20190907T110000
DTEND;TZID=America/New_York:20190907T190000
DTSTAMP:20260425T103615
CREATED:20190805T044052Z
LAST-MODIFIED:20190808T235035Z
UID:238-1567854000-1567882800@melhashriners.org
SUMMARY:Melha Shriners Music Feztival
DESCRIPTION:https://melhashriners.org/wp-content/uploads/2019/08/Melha-Shrine-FEZtival-rev-6-19.mp3\nThe Melha Shriners\, in conjunction with the Three County Fairgrounds\, announce a day-long country music feztival at the Northampton fairgrounds on Saturday\, September 7\, 2019 from 11:00 a.m. to 7:00 p.m. with six national and local country music acts. \nFeatured is the “Roots & Boots 90s Electric Throwdown Tour” with Sammy Kershaw\, Collin Raye\, and Aaron Tippin. Also appearing will be local acts King Kountry\, Southern Rain\, and Cottonwood. \nTickets are available at https://www.3countyfair.com/events/2019/melha-shriners-music-feztival and are priced as follows:\n$30 – General Admission (Advanced Online Purchase)\, with children 5 and under free\n$35 – General Admission (Walk up\, day of show)\, with children 5 and under free\n$40 – Reserved Seating (Ticket required for all ages) \nThe day’s schedule follows:\n11:00 a.m. King Kountry\n1:00 p.m. Southern Rain\n3:00 p.m. Cottonwood\n5:00 p.m. Roots & Boots Tour with Aaron Tippin\, Collin Raye\, & Sammy Kershaw \nGates will open at 10:00 a.m.\, with $5 on-site parking available. Food\, beer\, and wine will be available for purchase. \nGeneral Admission ticket holders are encouraged to bring chairs & blankets. No outside food or drink permitted. No beach umbrellas or pop-up tents permitted. \nFollow the latest event details on Facebook at https://www.facebook.com/events/406450000202997/ \nDISCLOSURE: A portion of the event proceeds are for the benefit of the Melha Shriners activities. Ticket purchases are not deductible as charitable contributions.
URL:https://melhashriners.org/events/musicfeztival/
LOCATION:Three County Fairgrounds\, 41 Fair Street\, Northampton\, MA\, 01060\, United States
CATEGORIES:Melha Event
ORGANIZER;CN="Melha Shriners":MAILTO:info@melhashriners.org
END:VEVENT
BEGIN:VEVENT
DTSTART;TZID=America/New_York:20190817T160000
DTEND;TZID=America/New_York:20190817T210000
DTSTAMP:20260425T103615
CREATED:20190815T235354Z
LAST-MODIFIED:20190816T221058Z
UID:688-1566057600-1566075600@melhashriners.org
SUMMARY:First Lady's Fundraiser - Chicken BBQ/Concert
DESCRIPTION:Online ticket sales have ended\, a limited number of tickets will be available for purchase at the door the day of the event. \nChicken BBQ & Concert Fundraiser\, proceeds to benefit Melha’s 2019 First Lady’s Project! At the Melha Family Fun Center\, located at 126 W Main St\, Ware\, MA 01082 on August 17th from 4pm to 9pm. \nMusic from: Charlie Lask as Neil Diamond\, Irving Lewis with Motown Revue and more\, and topping it all off with hits from the 60’s and today with local band “LOWER LEVEL”. \nFood – Music – Cash Bar – Raffles and more! \nTickets are as follows and can be purchased online here. \nAdults – $25 per person\, including Chicken BBQ and Concert. \nChildren Under 12 – $10 per person\, including Hamburgers\, Hotdogs and Concert. \nChildren Under 5 – Free\, including Hamburgers\, Hotdogs and Concert. \nFollow the latest event details on Facebook here https://www.facebook.com/events/2331288630227331/ \nDISCLOSURE: The proceeds from the 2019 Melha First Lady’s Chicken BBQ & Concert Fundraiser will benefit the 2019 Melha First Lady’s project.
URL:https://melhashriners.org/events/1stladybbqconcert/
LOCATION:Melha Family Fun Center\, 126 W Main St\, Ware\, MA\, 01082-1335\, United States
CATEGORIES:First Lady Project Event
END:VEVENT
END:VCALENDAR