BEGIN:VCALENDAR
VERSION:2.0
PRODID:-//Melha Shriners - ECPv6.15.20//NONSGML v1.0//EN
CALSCALE:GREGORIAN
METHOD:PUBLISH
X-WR-CALNAME:Melha Shriners
X-ORIGINAL-URL:https://melhashriners.org
X-WR-CALDESC:Events for Melha Shriners
REFRESH-INTERVAL;VALUE=DURATION:PT1H
X-Robots-Tag:noindex
X-PUBLISHED-TTL:PT1H
BEGIN:VTIMEZONE
TZID:America/New_York
BEGIN:DAYLIGHT
TZOFFSETFROM:-0500
TZOFFSETTO:-0400
TZNAME:EDT
DTSTART:20250309T070000
END:DAYLIGHT
BEGIN:STANDARD
TZOFFSETFROM:-0400
TZOFFSETTO:-0500
TZNAME:EST
DTSTART:20251102T060000
END:STANDARD
BEGIN:DAYLIGHT
TZOFFSETFROM:-0500
TZOFFSETTO:-0400
TZNAME:EDT
DTSTART:20260308T070000
END:DAYLIGHT
BEGIN:STANDARD
TZOFFSETFROM:-0400
TZOFFSETTO:-0500
TZNAME:EST
DTSTART:20261101T060000
END:STANDARD
BEGIN:DAYLIGHT
TZOFFSETFROM:-0500
TZOFFSETTO:-0400
TZNAME:EDT
DTSTART:20270314T070000
END:DAYLIGHT
BEGIN:STANDARD
TZOFFSETFROM:-0400
TZOFFSETTO:-0500
TZNAME:EST
DTSTART:20271107T060000
END:STANDARD
END:VTIMEZONE
BEGIN:VEVENT
DTSTART;VALUE=DATE:20260501
DTEND;VALUE=DATE:20260504
DTSTAMP:20260423T162351
CREATED:20260315T162648Z
LAST-MODIFIED:20260414T103652Z
UID:14993-1777593600-1777852799@melhashriners.org
SUMMARY:2026 Potentates Reception
DESCRIPTION:2026 – Potentates Reception May 1-2\, 2026\nIllustrious Potentate Matthew Herman cordially invites you to celebrate Melha Shriners in 2026. Join us for a weekend of Fun and Fellowship. Lodging and event detials are as follows: \nHotel Accommodations: Bookings are available directly through the hotel. Please use the group name “Melha Shriners 2026” and group code “MSG” for a check-in date of 5/1 and check out on 5/3.  Price is $159 per night plus applicable taxes. Again\, you need to book directly through the hotel: Homewood Suites By Hilton Holyoke\, 375 Whitney Ave. Holyoke\, MA 01040 – (413) 532-3100. Hotel price does not include anything else\, all other items need to be selected and paid for in addition to the hotel. \nFriday Night (5/1) Murder Mystery Diner (Buffet): Friday night join us for a Murder Mystery buffet dinner at the Elks Lodge 250 Whitney Ave\, Holyoke\, MA 01040. Event will begin at 6:30pm. Price is $55 per person. \nSaturday Afternoon (5/2) Family Barbeque: Saturday afternoon join us for a Potentates Family BBQ at the Springfield Elks Lodge #61\, 440 Tiffany St\, Springfield\, MA 01108. Event begins at 2pm. BBQ will consist of: Smoked Jalapeno Poppers and Little Smokies (meatballs wrapped in bacon) for starters\, with  Full Hog\, Brisket\, Char Grilled BBQ Chicken Thighs\, Hamburgers and Hot Dogs for the main; as well as Mac & Cheese\, Potato Salad\, Baked Beans\, Corn on the Cob (Mexican street corn) \, Coleslaw and Corn Bread for sides. This is being catered by ZACKS BBQ. Prices is $85 per person with children under 10 being free. \nFriday night and Saturday afternoon reservations close 8am on 4/21/26\, select your tickets for all option you would like to purchase below and checkout here online. \nIf you prefer you can download a PDF version of the flyer and fill it out and mail it into the office by clicking –>HERE<– \nAll proceeds are for the benefit of Melha Shriners activities\, and donations are not deductible as charitable contributions. If paying online or with a credit card a transaction fee of 3.5% is added to all transactions.
URL:https://melhashriners.org/events/2026reception/
LOCATION:MA
ORGANIZER;CN="Melha Shriners":MAILTO:info@melhashriners.org
END:VEVENT
BEGIN:VEVENT
DTSTART;TZID=America/New_York:20260509T130000
DTEND;TZID=America/New_York:20260509T170000
DTSTAMP:20260423T162351
CREATED:20260315T191520Z
LAST-MODIFIED:20260315T192155Z
UID:15008-1778331600-1778346000@melhashriners.org
SUMMARY:2026 Melha Family Picnic
DESCRIPTION:2026 – Melha Family Picnic – May 9\, 2026\nJoin us on May 9th for the 2026 Melha Family Picnic. Melha’s Marshall Anthony Leroux and his Lady Debbie will be hosting Melha’s Picnic again this year. \nThe usual fixings\, Hot dogs Hamburgers\, a variety of salads\, beans\, deserts\, etc. Soda and water included. Picnic will be held on May 9th at Look Park In Northampton\, it is a rain or shine event. Picnic will be held at the Dow Pavilion and will start at 1:00 p.m. however the Park opens at 9.00a.m. Come early and enjoy the many attractions the park has to offer. The event will also include a “unique” pie eating contest and a skillet throwing contest. The cost this year is $20.00 per person with children under 10 years old free\, parking is your responsibility but veterans do park for free. \nThe event is limited to 120 people and is open to Melha family and friends. If you choose to imbibe in adult beverages it is a BYOB\, please be responsible and if you bring in cans or bottles you must take your own out. \nReservations can be made by picking the appropriate ticket option below and checking out on our website or you may pay directly to the Melha Recorders Office with checks made out to Melha Shriners and in memo Spring Picnic. The mailing address is: Melha Shriners\, ATTN:Ill. Russ Mitchell Recorder\, 89 Park Street\, Chicopee\, MA 01020 – or by telephone at (413) 736-3647 \nReservations and payments must be made by April 30th with no exceptions.  I would like to add that Illustrious Matt Hermann\, no stranger to the grill will be rolling up his sleeves\, flipping the burgers and turning the dogs that day. Hope to see many there. \nIf you have any questions please reach out to Anthony Leroux at (413) 426-5632 \nAll proceeds are for the benefit of Melha Shriners activities\, and donations are not deductible as charitable contributions. If paying online or with a credit card a transaction fee of 3.5% is added to all transactions.
URL:https://melhashriners.org/events/2026-melha-family-picnic/
LOCATION:Look Memorial Park\, 300 N Main St\, Florence\, MA\, 01062\, United States
ORGANIZER;CN="Melha Shriners":MAILTO:info@melhashriners.org
END:VEVENT
BEGIN:VEVENT
DTSTART;VALUE=DATE:20260710
DTEND;VALUE=DATE:20260717
DTSTAMP:20260423T162351
CREATED:20260308T194256Z
LAST-MODIFIED:20260315T161042Z
UID:14922-1783641600-1784246399@melhashriners.org
SUMMARY:Imperial 2026
DESCRIPTION:Melha Shriners and Illustrious Matthew Heman and his Lady Jodi cordially invite you to the 156th Imperial Session in Tampa\, Florida ~ Friday July 10th — Thursday July16th\, 2026. \nMelha lodging will be at the Tampa Marriott Water Street (505 Water Street\, Tampa\, FL) ~ The ever important hospitality will be at the adjoining (by skywalk) JW Marriott (510 Water Street). Some key events and times to consider are noted below. More information and specifics will follow: \n\nFriday July 10th ~ Arrival Day ~ Welcome to Tampa! Hospitality will be available early evening\nSaturday July 11th ~\n\nNoon—5pm ~ Marketplace at The Tampa Convention Center ~ West Hall\n\n\nSunday July 12th ~\n\n9am—5pm ~ Marketplace & Shriners Zone at The Tampa Convention Center ~ West Hall\nChurch Service ~ TBD\nUnit Competitions ~ Various times & locations\nMelha Outing ~ free tram to Ybor City ~ pay your own way ~ more information to follow\n\n\nMonday July 13th ~\n\n9am—5pm ~ Marketplace & Shriners Zone at The Tampa Convention Center ~ West Hall\nUnit Competitions ~ Various times & locations\nMelha Temple Dinner ~ Set sail on the waterways of Tampa Bay on Yacht Starship Cruises as we sip & savor upscale cuisine & cocktails! Time TBD www.yachtstarship.com\n\n\nTuesday July 14th ~\n\n8:30am—5pm ~ Imperial Session Tampa Convention Center\, East Hall\n9am—5pm ~ Marketplace & Shriners Zone at The Tampa Convention Center ~ West Hall\n11:30 am – 2:30pm ~ Ladies Luncheon Honoring First Lady Cheryl Koehn * This is a ticketed event ~ First Lady Jodi will determine attire\n7pm ~ Parade\n\n\nWednesday July 15th ~\n\n8:30am ~ Pageant for Newly Elected Imperial Potentate ~ Tampa Convention Center\, East Hall\n9am—5pm ~ Marketplace & Shriners Zone at The Tampa Convention Center ~ West Hall\n9am—1:30pm ~ Shriners Zone at The Tampa Convention Center ~ West Hall\n1:30pm ~ Award of Merit\, Office of Philanthropy Report & Marketing Report\, Patient Success Story Premier\nImmediately following ~ International Patient Meet & Greet ~ location to be determined\n8pm ~ All Nobility Evening ~ Tampa Convention Center\, East Hall *ticketed event ~ link will be provided if payment is required**\n\n\nThursday July 16th ~\n\n8:30am—Noon ~ Imperial Session—Tampa Convention Center\, East Hall\n9am—Noon ~ Marketplace & Shriners Zone ~ Tampa Convention Center\, West Hall\n\n\n\nPrice of package is $1\,975 per room. Rooms are double occupancy. Package price includes Lodging\, Hospitality\, Melha Temple Dinner\, Ladies Luncheon. Transportation to/from Tampa is not included in the package. Remit all payments to Melha Shriners\, 89 Park Street\, Chicopee\, MA 01013 or by phone (413) 736-3647. Please note: if using a credit card\, there will be an additional 3.5% processing fee. \nPay in full by March 30\, 3036 or Payment Plan available per the following breakdown; you may pay in full or use the payment plan options by selecting the option below and checking out online and pay here on our website. You can also download a reservation form by clicking –>HERE<– and then mailing in a check to the Melha Office\, or you may call the Melha Office at (413) 736-3647. \n\n$659 due by March 30\, 2026\n$659 due by May 1\, 2026\n$657 due by July 1\, 2026\n\nWhen you checkout online\, please enter the following information into the “Order Notes” field during the checkout process: First & Last names of all travelers\, How you intend on traveling to Tampa\, What kind of beverages your group enjoys\, What kinds of snacks/hors d’oeuvres does your group enjoy. \nAll proceeds are for the benefit of Melha Shriners activities\, and donations are not deductible as charitable contributions. A convenience fee of 3.5% is applied to all online and credit card transactions.
URL:https://melhashriners.org/events/imperial2026/
LOCATION:Tampa Marriott Water Street\, 505 Water Street\, Tampa\, FL\, 33602\, United States
ORGANIZER;CN="Melha Shriners":MAILTO:info@melhashriners.org
END:VEVENT
END:VCALENDAR