BEGIN:VCALENDAR
VERSION:2.0
PRODID:-//Melha Shriners - ECPv6.15.20//NONSGML v1.0//EN
CALSCALE:GREGORIAN
METHOD:PUBLISH
X-WR-CALNAME:Melha Shriners
X-ORIGINAL-URL:https://melhashriners.org
X-WR-CALDESC:Events for Melha Shriners
REFRESH-INTERVAL;VALUE=DURATION:PT1H
X-Robots-Tag:noindex
X-PUBLISHED-TTL:PT1H
BEGIN:VTIMEZONE
TZID:America/New_York
BEGIN:DAYLIGHT
TZOFFSETFROM:-0500
TZOFFSETTO:-0400
TZNAME:EDT
DTSTART:20240310T070000
END:DAYLIGHT
BEGIN:STANDARD
TZOFFSETFROM:-0400
TZOFFSETTO:-0500
TZNAME:EST
DTSTART:20241103T060000
END:STANDARD
BEGIN:DAYLIGHT
TZOFFSETFROM:-0500
TZOFFSETTO:-0400
TZNAME:EDT
DTSTART:20250309T070000
END:DAYLIGHT
BEGIN:STANDARD
TZOFFSETFROM:-0400
TZOFFSETTO:-0500
TZNAME:EST
DTSTART:20251102T060000
END:STANDARD
BEGIN:DAYLIGHT
TZOFFSETFROM:-0500
TZOFFSETTO:-0400
TZNAME:EDT
DTSTART:20260308T070000
END:DAYLIGHT
BEGIN:STANDARD
TZOFFSETFROM:-0400
TZOFFSETTO:-0500
TZNAME:EST
DTSTART:20261101T060000
END:STANDARD
END:VTIMEZONE
BEGIN:VEVENT
DTSTART;TZID=America/New_York:20250906T160000
DTEND;TZID=America/New_York:20250906T213000
DTSTAMP:20260423T230225
CREATED:20250719T124238Z
LAST-MODIFIED:20250719T125440Z
UID:12708-1757174400-1757194200@melhashriners.org
SUMMARY:Melha Cigar Smoker – 2025
DESCRIPTION:Join the Melha Shriners at their 2025 Cigar Smoker on September 6th\, 2025 at the Polish American Club of Agawam (Rear Pavilion & Hall)\, 139 Southwick St.\, Feeding Hills\, MA. Doors open at 4:00pm\, dinner will be served at 5:00pm and the event ends at 9:30pm. Dinner will be Prime Rib & Chicken Francaise. Cigars\, Cash Bar\, Prizes\, Vendors and more. Tickets for the event are $80\, which includes the dinner and a few cigars for you to enjoy. Tickets must be purchased by 11:00PM on August 31\, 2025. \nPurchase your tickets online below or Tickets are also available in the Melha Office. \nAll proceeds are for the benefit of Melha Shriners activities\, and payments are not deductible as charitable contributions. A connivence fee of 3.5% is applied to all online and credit card transactions. \nMust be of legal smoking age in Massachusetts to receive\, purchase or consume the cigars at this event.
URL:https://melhashriners.org/events/melha-cigar-smoker-2025/
LOCATION:Polish American Club of Agwam\, 139 Southwick St.\, Feeding Hills\, MA\, United States
ORGANIZER;CN="Melha Shriners":MAILTO:info@melhashriners.org
END:VEVENT
END:VCALENDAR