BEGIN:VCALENDAR
VERSION:2.0
PRODID:-//Melha Shriners - ECPv6.15.20//NONSGML v1.0//EN
CALSCALE:GREGORIAN
METHOD:PUBLISH
X-WR-CALNAME:Melha Shriners
X-ORIGINAL-URL:https://melhashriners.org
X-WR-CALDESC:Events for Melha Shriners
REFRESH-INTERVAL;VALUE=DURATION:PT1H
X-Robots-Tag:noindex
X-PUBLISHED-TTL:PT1H
BEGIN:VTIMEZONE
TZID:America/New_York
BEGIN:DAYLIGHT
TZOFFSETFROM:-0500
TZOFFSETTO:-0400
TZNAME:EDT
DTSTART:20240310T070000
END:DAYLIGHT
BEGIN:STANDARD
TZOFFSETFROM:-0400
TZOFFSETTO:-0500
TZNAME:EST
DTSTART:20241103T060000
END:STANDARD
BEGIN:DAYLIGHT
TZOFFSETFROM:-0500
TZOFFSETTO:-0400
TZNAME:EDT
DTSTART:20250309T070000
END:DAYLIGHT
BEGIN:STANDARD
TZOFFSETFROM:-0400
TZOFFSETTO:-0500
TZNAME:EST
DTSTART:20251102T060000
END:STANDARD
BEGIN:DAYLIGHT
TZOFFSETFROM:-0500
TZOFFSETTO:-0400
TZNAME:EDT
DTSTART:20260308T070000
END:DAYLIGHT
BEGIN:STANDARD
TZOFFSETFROM:-0400
TZOFFSETTO:-0500
TZNAME:EST
DTSTART:20261101T060000
END:STANDARD
END:VTIMEZONE
BEGIN:VEVENT
DTSTART;VALUE=DATE:20250627
DTEND;VALUE=DATE:20250704
DTSTAMP:20260424T014053
CREATED:20250125T151359Z
LAST-MODIFIED:20250516T200403Z
UID:11334-1750982400-1751587199@melhashriners.org
SUMMARY:Imperial 2025
DESCRIPTION:PLEASE LET US KNOW THE FOLLOWING IN THE NOTES FIELD DURING CHECKOUT:\nFirst & Last names of all travelers\, How you intend on traveling to Imperial\, What kind of beverages your group enjoys\, What kinds of snacks/hors d’oeuvres does your group enjoy\, and the shirt sizes for those in your party. \nJoin us in Atlanta\, Georgia for the 2025 Imperial Session\, Melha will be staying at the Hilton Atlanta (255 Courtland Street NE\, Atlanta\, GA 30303). Below are some key events and time: \n\nFriday\, June 27\, 2025 – Arrive and Welcome to Atlanta\nSaturday\, June 28\, 2025 – Unit Competitions (Various Times & Locations)\nSaturday\, June 28\, 2025 – Pub Crawl\, 5pm-7pm\, Local Water Holes\nSunday\, June 29\, 2025 – Public Opening\, 2pm\, Hyatt Regency\nSunday\, June 29\, 2025 – Imperial Parade\, 6pm-8pm\, Peachtree Street\nMonday\, June 30\, 2025 – Brewfest\, 6pm-8pm\, Location TBD\nTuesday\, July 1\, 2025 – Ladies Luncheon\, 11:15am\, Hyatt Regency\nWednesday\, July 2\, 2025 – Pageant for Newly Elected Imperial Potentate\, 8:30am\, Hyatt Reg.\nWednesday\, July 2\, 2025 – International Patient Ambassador Meet & Greet\, 1:30pm\, Hyatt Reg.\nThursday – July 3\, 2025 – Depart and Return Home\nJune 27\, 28\, 30 and July 1 & 2 – A Variety of Complementary Musical Entertainment offered each night\, 8pm-10pm\, Hyatt Regency\n\nPrice of package is $2\,200 per room. Rooms are double occupancy. Package price includes Hotel Room\, Hospitality Suite Access\, Melha Imperial 2025 Polo Shirt and Melha Shrine Center Dinner at Trader Vic’s Polynesian Restaurant. Transportation to/from Atlanta is not included in the package. \nFull payment of $2200 required by May 15\, 2025. \nPayments Plan available per the following breakdown: \n\n$800 due by March 15\, 2025\n$700 due by April 15\, 2025\n$700 due by May 15\, 2025\n\nYou can reserve and pay online by choose the appropriate item below and checking out and paying here on our website. You can also download a reservation form by clicking –>HERE<– and then mailing in a check to the Melha Office\, or you may call the Melha Office at (413) 736-3647. \nThere are two options to pay:\n1. Pay in full\, $2200 per room\, by May 15th\, 2025 by selecting the Imperial 2025 Full Payment by 5-15-25 item below.\n2. Make three payments by performing the following: \n\nMake first payment of $800 per room by March 15th\, 2025 by selecting the Imperial 2025 Payment 1 by 3-15-25 item below.\nThen returning to the website and make a second payment of $700 per room by April 15th\, 2025 by selecting the Imperial 2025 Payment 2 by 4-15-25 item below.\nThen returning to this website and make a third and final payment of $700 per room by May 15\, 2025 by selecting the Imperial 2025 Payment 3 by 5-15-25 item below.\n\nWhen you checkout online\, please enter the following information into the “Order Notes” field during the checkout process: First & Last names of all travelers\, How you intend on traveling to Atlanta\, What kind of beverages your group enjoys\, What kinds of snacks/hors d’oeuvres does your group enjoy. The shirt sizes for those in your party. \nAll proceeds are for the benefit of Melha Shriners activities\, and donations are not deductible as charitable contributions. A convenience fee of 3.5% is applied to all online and credit card transactions.
URL:https://melhashriners.org/events/imperial2025/
LOCATION:Hitlon Atlanta\, 255 Courtland Street NE\, Atlanta\, GA\, 30303\, United States
ORGANIZER;CN="Melha Shriners":MAILTO:info@melhashriners.org
END:VEVENT
END:VCALENDAR