BEGIN:VCALENDAR
VERSION:2.0
PRODID:-//Melha Shriners - ECPv6.15.20//NONSGML v1.0//EN
CALSCALE:GREGORIAN
METHOD:PUBLISH
X-ORIGINAL-URL:https://melhashriners.org
X-WR-CALDESC:Events for Melha Shriners
REFRESH-INTERVAL;VALUE=DURATION:PT1H
X-Robots-Tag:noindex
X-PUBLISHED-TTL:PT1H
BEGIN:VTIMEZONE
TZID:America/New_York
BEGIN:DAYLIGHT
TZOFFSETFROM:-0500
TZOFFSETTO:-0400
TZNAME:EDT
DTSTART:20240310T070000
END:DAYLIGHT
BEGIN:STANDARD
TZOFFSETFROM:-0400
TZOFFSETTO:-0500
TZNAME:EST
DTSTART:20241103T060000
END:STANDARD
BEGIN:DAYLIGHT
TZOFFSETFROM:-0500
TZOFFSETTO:-0400
TZNAME:EDT
DTSTART:20250309T070000
END:DAYLIGHT
BEGIN:STANDARD
TZOFFSETFROM:-0400
TZOFFSETTO:-0500
TZNAME:EST
DTSTART:20251102T060000
END:STANDARD
BEGIN:DAYLIGHT
TZOFFSETFROM:-0500
TZOFFSETTO:-0400
TZNAME:EDT
DTSTART:20260308T070000
END:DAYLIGHT
BEGIN:STANDARD
TZOFFSETFROM:-0400
TZOFFSETTO:-0500
TZNAME:EST
DTSTART:20261101T060000
END:STANDARD
END:VTIMEZONE
BEGIN:VEVENT
DTSTART;TZID=America/New_York:20250329T180000
DTEND;TZID=America/New_York:20250329T233000
DTSTAMP:20260424T073725
CREATED:20250114T231409Z
LAST-MODIFIED:20250125T145553Z
UID:11259-1743271200-1743291000@melhashriners.org
SUMMARY:2025 Potentates Reception
DESCRIPTION:2025 – Potentates Reception March 28-29\, 2025\nIllustrious Potentate Christopher Parker cordially invites you to celebrate Melha Shriners in 2025. Join us for a weekend of Fun and Fellowship. Lodging and all events are at The 1080 (Former Clarion Hotel)\, 1080 Riverdale Street\, West Springfield\, MA 01089. \nHotel Accommodations: Bookings are available for Friday and/or Saturday night. Hotel price of $139 a night includes taxes and access to Melha’s Hospitality Room\, which will be available both nights\, access is only granted for the nights you’re staying at the hotel. Hotel price does not include anything else\, all other items need to be selected and paid for in addition to the hotel. \nFriday Night (3/28/25) Dinner & Dance: Friday night join us for a BBQ style buffet dinner and a Country and Western Dance. Entertainment will be by the Ron Jones Band. Social will begin at 6pm with dinner at 7pm followed by music and dancing. Price is $45 per person. \nSaturday Morning (3/29/25) Breakfast: Saturday morning join us for a Northeast Buffet Breakfast at 9:30am. Price is $25 per person. \nSaturday Night (3/29/25) Potentates Reception Dinner: Saturday night join us for the Potentates Reception Dinner and dancing/entertainment. Dinner will be a buffet with social starting at 5pm\, a grand entry at 6pm with the meal starting at 7pm followed by dancing with entertainment by General Gists. Price is $80 per person. \nPlease make all reservations before 3/14/2025\, select your tickets for all option you would like to purchase below and checkout here online. \nIf you prefer you can download a PDF version of the flyer and fill it out and mail it into the office by clicking –>HERE<– \nAll proceeds are for the benefit of Melha Shriners activities\, and donations are not deductible as charitable contributions. If paying online or with a credit card a transaction fee of 3.5% is added to all transactions.
URL:https://melhashriners.org/events/2025reception/
LOCATION:The 1080 (Former Clarion Hotel)\, 1080 Riverdale Street\, West Springfield\, MA\, 01089\, United States
ORGANIZER;CN="Melha Shriners":MAILTO:info@melhashriners.org
END:VEVENT
END:VCALENDAR