BEGIN:VCALENDAR
VERSION:2.0
PRODID:-//Melha Shriners - ECPv6.15.20//NONSGML v1.0//EN
CALSCALE:GREGORIAN
METHOD:PUBLISH
X-ORIGINAL-URL:https://melhashriners.org
X-WR-CALDESC:Events for Melha Shriners
REFRESH-INTERVAL;VALUE=DURATION:PT1H
X-Robots-Tag:noindex
X-PUBLISHED-TTL:PT1H
BEGIN:VTIMEZONE
TZID:America/New_York
BEGIN:DAYLIGHT
TZOFFSETFROM:-0500
TZOFFSETTO:-0400
TZNAME:EDT
DTSTART:20230312T070000
END:DAYLIGHT
BEGIN:STANDARD
TZOFFSETFROM:-0400
TZOFFSETTO:-0500
TZNAME:EST
DTSTART:20231105T060000
END:STANDARD
BEGIN:DAYLIGHT
TZOFFSETFROM:-0500
TZOFFSETTO:-0400
TZNAME:EDT
DTSTART:20240310T070000
END:DAYLIGHT
BEGIN:STANDARD
TZOFFSETFROM:-0400
TZOFFSETTO:-0500
TZNAME:EST
DTSTART:20241103T060000
END:STANDARD
BEGIN:DAYLIGHT
TZOFFSETFROM:-0500
TZOFFSETTO:-0400
TZNAME:EDT
DTSTART:20250309T070000
END:DAYLIGHT
BEGIN:STANDARD
TZOFFSETFROM:-0400
TZOFFSETTO:-0500
TZNAME:EST
DTSTART:20251102T060000
END:STANDARD
END:VTIMEZONE
BEGIN:VEVENT
DTSTART;TZID=America/New_York:20240919T160000
DTEND;TZID=America/New_York:20240922T100000
DTSTAMP:20260424T172047
CREATED:20240621T132833Z
LAST-MODIFIED:20240627T201335Z
UID:8937-1726761600-1726999200@melhashriners.org
SUMMARY:2024 NSA Fall Field Days
DESCRIPTION:2024 Northeast Shrine Association Fall Field Days on September 19 through September 22 in Kingston\, Ontario Canada. Prices and details are below and all tickets must be reserved and paid for by 11:30pm on July 15\, 2024. Scroll to the bottom of this page to select your tickets and then checkout to pay. All tickets must be purchased and paid for by July 15\, 2024. \n\n\n\nActivity\nNumber Tickets Buying \nPrice  (USD)\n\n\nThursday Sept. 19th – Sunday Sept. 22nd: Host Hotel: Holiday Inn \, 2 Princess St\, Kingston\, ON K7L 1A2 \n**Includes Combined Shrine Center Hospitality Room located in the Harborview Room Suite. Pet Friendly\, Indoor Pool\, Free WiFi\, Fitness Center\, Onsite Dining 7am-9pm\, Free parking\, Room fridges\, microwaves and Keurig Coffee Makers\n(3 Night Package) \nDeadline to book is July 15\, 2024\n$615 per room for all 3 nights \n(Taxes included)\n\n\nFriday Sept. 20th\, 11:30am – 3pm: Ladies Luncheon Boat Cruise (Ticketed Event) at Crawford Wharf – Next to the Holiday Inn \n **Passport Required. Dress: Weather appropriate\, Shrine Cruise Casual \nDeadline to book is July 15\, 2024\n$100 per person\n\n\nSaturday Sept. 21st\, 6pm – 9pm: NSA Closing and Awards Banquet\, Ban Righ Hall\, Queen’s University Campus\, 32 Bader Lane\, Kingston\, ON \nDress: Shrine Casual or Club/Unit Uniform WITH Fez\nDeadline to book is July 15\, 2024\n$60 per person\n\n\n\nThe tentative agenda for the 2024 NSA Fall Field Days is: \nThursday\, September 19th\, 2024 \nAll Day                                                  Travel to Kingston\n4:00 p.m.                                              City Hall Flag\n6:00 p.m.-8:00 p.m.                          Counterparts Dinners (various locations)\n9:00 p.m. (tentative)                         Hillbilly Degree (tentative) \nFriday\, September 20th\, 2024 \n8:30 a.m. – 11:00 a.m.                    NSA Opening Sessions and Annual Meeting (Holiday Inn) (Shrine Casual with Fez)\n11:30 a.m. – 3:00 p.m.                    Ladies Luncheon – Cruise (Ticketed Event 125.00 Cdn./ $100.00 US$) Passport Required.  Dress: Weather appropriate\, Shrine Cruise Casual\nAfternoon                                            On your own to see the town.    (Tours)\n6:00 p.m.-8:00 p.m.                          Melha Temple Dinner\, Amadeus Restaurant & Biergarten\, 170 Princess St\, Kingston\, ON\, K7L 1B1 (Dinner expenses NOT included in package)\nAll Evening                                          Enjoy Kingston \nSaturday\, September 21st\, 2024 \n8:00 a.m.-11:00 a.m.                       Competitions [Clown and Band (if necessary) – Kingston City Hall; Motorcorps – TBD]\n12:30 p.m.-1:30 p.m.                 Parade Assembles (Corrections Canada Head Office -Union Street)\n2:00 p.m.                                           Parade Steps Off (Temple Choice for  Uniform) PLEASE NOTE THAT THE PARADE MAY MOVE AHEAD BY AN HOUR\n4:00 p.m.                                       Post Parade Oasis (to be determined)\n6:00 p.m.-9:00 p.m.                         NSA Closing and Awards Banquet (Ban Righ Hall\, Queens University\, 32 Bader Lane\, Kingston\, ON) (Ticketed Event $75.00 Cdn. / $60.00 US – Per person). Dress: Shrine Casual or Club or Unit Uniform WITH Fez \nSunday\, September 22nd\, 2024 \nThanks for joining us. Stick around or travel safely. \nA convenience fee of 3.5% is applied to all online and credit card transactions. All proceeds are for the benefit of Melha Shriners activities\, and payments are not deductible as charitable contributions.
URL:https://melhashriners.org/events/2024-nsa-fall-field-days/
LOCATION:Tunis Shrine Center\, Kingston\, Ontario\, Canada
END:VEVENT
END:VCALENDAR