BEGIN:VCALENDAR
VERSION:2.0
PRODID:-//Melha Shriners - ECPv6.15.20//NONSGML v1.0//EN
CALSCALE:GREGORIAN
METHOD:PUBLISH
X-ORIGINAL-URL:https://melhashriners.org
X-WR-CALDESC:Events for Melha Shriners
REFRESH-INTERVAL;VALUE=DURATION:PT1H
X-Robots-Tag:noindex
X-PUBLISHED-TTL:PT1H
BEGIN:VTIMEZONE
TZID:America/New_York
BEGIN:DAYLIGHT
TZOFFSETFROM:-0500
TZOFFSETTO:-0400
TZNAME:EDT
DTSTART:20220313T070000
END:DAYLIGHT
BEGIN:STANDARD
TZOFFSETFROM:-0400
TZOFFSETTO:-0500
TZNAME:EST
DTSTART:20221106T060000
END:STANDARD
BEGIN:DAYLIGHT
TZOFFSETFROM:-0500
TZOFFSETTO:-0400
TZNAME:EDT
DTSTART:20230312T070000
END:DAYLIGHT
BEGIN:STANDARD
TZOFFSETFROM:-0400
TZOFFSETTO:-0500
TZNAME:EST
DTSTART:20231105T060000
END:STANDARD
BEGIN:DAYLIGHT
TZOFFSETFROM:-0500
TZOFFSETTO:-0400
TZNAME:EDT
DTSTART:20240310T070000
END:DAYLIGHT
BEGIN:STANDARD
TZOFFSETFROM:-0400
TZOFFSETTO:-0500
TZNAME:EST
DTSTART:20241103T060000
END:STANDARD
END:VTIMEZONE
BEGIN:VEVENT
DTSTART;TZID=America/New_York:20231126T080000
DTEND;TZID=America/New_York:20231126T093000
DTSTAMP:20260425T071513
CREATED:20231001T202752Z
LAST-MODIFIED:20231001T202752Z
UID:7675-1700985600-1700991000@melhashriners.org
SUMMARY:Breakfast With Santa - 11/26/23 - 8:00AM
DESCRIPTION:November 26th\, 8:00 am to 9:30 am seating for the Melha Shriners Festival of Trees Annual Breakfast With Santa. \nCome join Santa and Mrs. Claus\, our special guests from the North Pole\, for this once-a-year\, family-orientated breakfast.  Photo opportunity with Santa and Mrs. Claus\, don’t forget your camera!. Breakfast will be $10 for ages 13 and older\, $5 for ages 4 through 12\, and children 3 and under are free. \nSpace is limited – Reservations required in advance and are only available online. \nTo see the list of all dates/times for our Breakfast With Santa click here. \nAll proceeds are for the benefit of Melha Shriners activities\, and payments are not deductible as charitable contributions.
URL:https://melhashriners.org/events/breakfast-with-santa-11-26-23-800am/
LOCATION:The 1080 (Former Clarion Hotel)\, 1080 Riverdale Street\, West Springfield\, MA\, 01089\, United States
ORGANIZER;CN="Melha Shriners":MAILTO:info@melhashriners.org
END:VEVENT
BEGIN:VEVENT
DTSTART;TZID=America/New_York:20231126T090000
DTEND;TZID=America/New_York:20231126T170000
DTSTAMP:20260425T071513
CREATED:20230828T143926Z
LAST-MODIFIED:20230828T143926Z
UID:7568-1700989200-1701018000@melhashriners.org
SUMMARY:Feztival of Trees
DESCRIPTION:Our annual Feztival of Trees event is back again this year from November 24th thru December 3rd. Feztival is held at the Clarion Hotel & Aqua Lagoon Waterpark at 1080 Riverdale Street\, West Springfield\, MA. \nIf you’re interested in putting a tree into this years Feztival of Trees then please send us an email at feztivaloftrees@melhashriners.org and we will get you the details on submitting a tree. \nAdmission is free and there will be ample free parking. \nTake your chance at taking home one of the many creative and decoratively designed trees. For $10 you get 15 raffle tickets. You can then put the tickets into the buckets for the tree or trees you’d like to try to win. The drawing is done at the close of the Feztival on December 3rd. You don’t need to be present to win\, but it’s fun to watch the drawings. \nShop at our Craft Fair. Take a souvenir photo with Santa Claus and capture a memory of the true spirit of Christmas. \nFollow the latest event details on Facebook by clicking –>HERE<– \nEvent dates and times are:\nNovember 24 – 10:00AM to 7:00PM\nNovember 25 – 10:00AM to 7:00PM\nNovember 26 – 9:00AM to 5:00PM\nNovember 27 – 4:00PM to 7:00PM\nNovember 28 – 4:00PM to 7:00PM\nNovember 29 – 4:00PM to 7:00PM\nNovember 30 – 4:00PM to 7:00PM\nDecember 1 – 4:00PM to 7:00PM\nDecember 2 – 10:00AM to 7:00PM\nDecember 3 – 9:00AM to 2:00PM \nWe are also doing our Breakfast with Santa again this year\, details will be coming soon. \nAll proceeds are for the benefit of Melha Shriners activities\, and payments are not deductible as charitable contributions. \n#FeztivalOfTrees#MelhaShriners#MelhaFeztivalOfTrees
URL:https://melhashriners.org/events/feztival-of-trees-23/
LOCATION:The 1080 (Former Clarion Hotel)\, 1080 Riverdale Street\, West Springfield\, MA\, 01089\, United States
ORGANIZER;CN="Melha Shriners":MAILTO:info@melhashriners.org
END:VEVENT
BEGIN:VEVENT
DTSTART;TZID=America/New_York:20231126T093000
DTEND;TZID=America/New_York:20231126T110000
DTSTAMP:20260425T071513
CREATED:20231001T203040Z
LAST-MODIFIED:20231001T203040Z
UID:7681-1700991000-1700996400@melhashriners.org
SUMMARY:Breakfast With Santa - 11/26/23 - 9:30AM
DESCRIPTION:November 26th\, 9:30 am to 11:00 am seating for the Melha Shriners Festival of Trees Annual Breakfast With Santa. \nCome join Santa and Mrs. Claus\, our special guests from the North Pole\, for this once-a-year\, family-orientated breakfast.  Photo opportunity with Santa and Mrs. Claus\, don’t forget your camera!. Breakfast will be $10 for ages 13 and older\, $5 for ages 4 through 12\, and children 3 and under are free. \nSpace is limited – Reservations required in advance and are only available online. \nTo see the list of all dates/times for our Breakfast With Santa click here. \nAll proceeds are for the benefit of Melha Shriners activities\, and payments are not deductible as charitable contributions.
URL:https://melhashriners.org/events/breakfast-with-santa-11-26-23-930am/
LOCATION:The 1080 (Former Clarion Hotel)\, 1080 Riverdale Street\, West Springfield\, MA\, 01089\, United States
ORGANIZER;CN="Melha Shriners":MAILTO:info@melhashriners.org
END:VEVENT
END:VCALENDAR