BEGIN:VCALENDAR
VERSION:2.0
PRODID:-//Melha Shriners - ECPv6.15.20//NONSGML v1.0//EN
CALSCALE:GREGORIAN
METHOD:PUBLISH
X-WR-CALNAME:Melha Shriners
X-ORIGINAL-URL:https://melhashriners.org
X-WR-CALDESC:Events for Melha Shriners
REFRESH-INTERVAL;VALUE=DURATION:PT1H
X-Robots-Tag:noindex
X-PUBLISHED-TTL:PT1H
BEGIN:VTIMEZONE
TZID:America/New_York
BEGIN:DAYLIGHT
TZOFFSETFROM:-0500
TZOFFSETTO:-0400
TZNAME:EDT
DTSTART:20220313T070000
END:DAYLIGHT
BEGIN:STANDARD
TZOFFSETFROM:-0400
TZOFFSETTO:-0500
TZNAME:EST
DTSTART:20221106T060000
END:STANDARD
BEGIN:DAYLIGHT
TZOFFSETFROM:-0500
TZOFFSETTO:-0400
TZNAME:EDT
DTSTART:20230312T070000
END:DAYLIGHT
BEGIN:STANDARD
TZOFFSETFROM:-0400
TZOFFSETTO:-0500
TZNAME:EST
DTSTART:20231105T060000
END:STANDARD
BEGIN:DAYLIGHT
TZOFFSETFROM:-0500
TZOFFSETTO:-0400
TZNAME:EDT
DTSTART:20240310T070000
END:DAYLIGHT
BEGIN:STANDARD
TZOFFSETFROM:-0400
TZOFFSETTO:-0500
TZNAME:EST
DTSTART:20241103T060000
END:STANDARD
END:VTIMEZONE
BEGIN:VEVENT
DTSTART;TZID=America/New_York:20231124T100000
DTEND;TZID=America/New_York:20231124T190000
DTSTAMP:20260425T071329
CREATED:20230828T143633Z
LAST-MODIFIED:20230828T143633Z
UID:7564-1700820000-1700852400@melhashriners.org
SUMMARY:Feztival of Trees
DESCRIPTION:Our annual Feztival of Trees event is back again this year from November 24th thru December 3rd. Feztival is held at the Clarion Hotel & Aqua Lagoon Waterpark at 1080 Riverdale Street\, West Springfield\, MA. \nIf you’re interested in putting a tree into this years Feztival of Trees then please send us an email at feztivaloftrees@melhashriners.org and we will get you the details on submitting a tree. \nAdmission is free and there will be ample free parking. \nTake your chance at taking home one of the many creative and decoratively designed trees. For $10 you get 15 raffle tickets. You can then put the tickets into the buckets for the tree or trees you’d like to try to win. The drawing is done at the close of the Feztival on December 3rd. You don’t need to be present to win\, but it’s fun to watch the drawings. \nShop at our Craft Fair. Take a souvenir photo with Santa Claus and capture a memory of the true spirit of Christmas. \nFollow the latest event details on Facebook by clicking –>HERE<– \nEvent dates and times are:\nNovember 24 – 10:00AM to 7:00PM\nNovember 25 – 10:00AM to 7:00PM\nNovember 26 – 9:00AM to 5:00PM\nNovember 27 – 4:00PM to 7:00PM\nNovember 28 – 4:00PM to 7:00PM\nNovember 29 – 4:00PM to 7:00PM\nNovember 30 – 4:00PM to 7:00PM\nDecember 1 – 4:00PM to 7:00PM\nDecember 2 – 10:00AM to 7:00PM\nDecember 3 – 9:00AM to 2:00PM \nWe are also doing our Breakfast with Santa again this year\, details will be coming soon. \nAll proceeds are for the benefit of Melha Shriners activities\, and payments are not deductible as charitable contributions. \n#FeztivalOfTrees#MelhaShriners#MelhaFeztivalOfTrees
URL:https://melhashriners.org/events/feztival-of-trees-21/
LOCATION:The 1080 (Former Clarion Hotel)\, 1080 Riverdale Street\, West Springfield\, MA\, 01089\, United States
ORGANIZER;CN="Melha Shriners":MAILTO:info@melhashriners.org
END:VEVENT
END:VCALENDAR