BEGIN:VCALENDAR
VERSION:2.0
PRODID:-//Melha Shriners - ECPv6.15.20//NONSGML v1.0//EN
CALSCALE:GREGORIAN
METHOD:PUBLISH
X-WR-CALNAME:Melha Shriners
X-ORIGINAL-URL:https://melhashriners.org
X-WR-CALDESC:Events for Melha Shriners
REFRESH-INTERVAL;VALUE=DURATION:PT1H
X-Robots-Tag:noindex
X-PUBLISHED-TTL:PT1H
BEGIN:VTIMEZONE
TZID:America/New_York
BEGIN:DAYLIGHT
TZOFFSETFROM:-0500
TZOFFSETTO:-0400
TZNAME:EDT
DTSTART:20220313T070000
END:DAYLIGHT
BEGIN:STANDARD
TZOFFSETFROM:-0400
TZOFFSETTO:-0500
TZNAME:EST
DTSTART:20221106T060000
END:STANDARD
BEGIN:DAYLIGHT
TZOFFSETFROM:-0500
TZOFFSETTO:-0400
TZNAME:EDT
DTSTART:20230312T070000
END:DAYLIGHT
BEGIN:STANDARD
TZOFFSETFROM:-0400
TZOFFSETTO:-0500
TZNAME:EST
DTSTART:20231105T060000
END:STANDARD
BEGIN:DAYLIGHT
TZOFFSETFROM:-0500
TZOFFSETTO:-0400
TZNAME:EDT
DTSTART:20240310T070000
END:DAYLIGHT
BEGIN:STANDARD
TZOFFSETFROM:-0400
TZOFFSETTO:-0500
TZNAME:EST
DTSTART:20241103T060000
END:STANDARD
END:VTIMEZONE
BEGIN:VEVENT
DTSTART;TZID=America/New_York:20230414T180000
DTEND;TZID=America/New_York:20230414T213000
DTSTAMP:20260425T172415
CREATED:20230225T124138Z
LAST-MODIFIED:20230226T125421Z
UID:6874-1681495200-1681507800@melhashriners.org
SUMMARY:Comedy Show - April 2023
DESCRIPTION:Illustrious Potentate Randy Wessels and Lady Carla cordially invite you to celebrate Melha Shriners in 2023. Join them for a weekend of fun and fellowship at the Melha 2023 – Potentates Reception Weekend\, April 14-16\, 2023. \nFor details on the entire weekend click –>HERE<– \nJoin us for April 14th\, 2023 for an evening of fun and laughter! We’re hosting a comedy show at the Clarion Hotel\, 1080 Riverdale Street\, West Springfield\, MA. Doors open at 6:00pm\, dinner will be served at 6:30pm with the comedy show starting at 7:30pm. There will be three comedians to entertain for the evening. The price is $30 and includes dinner and the comedy show. Cash bar will be open for you to purchase beverages of your choice. Tickets must be purchased by 11:30pm on 4/6/23. \nPlease let us know in the notes field during checkout if you or someone in your party has a food allergy or dietary requirement.\nAll proceeds are for the benefit of Melha Shriners activities\, and payments are not deductible as charitable contributions. A transaction fee of 3.5% is applied to all online and credit card transactions.
URL:https://melhashriners.org/events/comedy-show-april-2023/
LOCATION:The 1080 (Former Clarion Hotel)\, 1080 Riverdale Street\, West Springfield\, MA\, 01089\, United States
CATEGORIES:Melha Event
ORGANIZER;CN="Melha Shriners":MAILTO:info@melhashriners.org
END:VEVENT
END:VCALENDAR